BEGIN:VCALENDAR
VERSION:2.0
PRODID:-//Forum Wissen - ECPv6.15.12.2//NONSGML v1.0//EN
CALSCALE:GREGORIAN
METHOD:PUBLISH
X-WR-CALNAME:Forum Wissen
X-ORIGINAL-URL:https://www.forum-wissen.de
X-WR-CALDESC:Veranstaltungen für Forum Wissen
REFRESH-INTERVAL;VALUE=DURATION:PT1H
X-Robots-Tag:noindex
X-PUBLISHED-TTL:PT1H
BEGIN:VTIMEZONE
TZID:Europe/Berlin
BEGIN:DAYLIGHT
TZOFFSETFROM:+0100
TZOFFSETTO:+0200
TZNAME:CEST
DTSTART:20250330T010000
END:DAYLIGHT
BEGIN:STANDARD
TZOFFSETFROM:+0200
TZOFFSETTO:+0100
TZNAME:CET
DTSTART:20251026T010000
END:STANDARD
BEGIN:DAYLIGHT
TZOFFSETFROM:+0100
TZOFFSETTO:+0200
TZNAME:CEST
DTSTART:20260329T010000
END:DAYLIGHT
BEGIN:STANDARD
TZOFFSETFROM:+0200
TZOFFSETTO:+0100
TZNAME:CET
DTSTART:20261025T010000
END:STANDARD
BEGIN:DAYLIGHT
TZOFFSETFROM:+0100
TZOFFSETTO:+0200
TZNAME:CEST
DTSTART:20270328T010000
END:DAYLIGHT
BEGIN:STANDARD
TZOFFSETFROM:+0200
TZOFFSETTO:+0100
TZNAME:CET
DTSTART:20271031T010000
END:STANDARD
END:VTIMEZONE
BEGIN:VEVENT
DTSTART;TZID=Europe/Berlin:20260419T110000
DTEND;TZID=Europe/Berlin:20260419T120000
DTSTAMP:20260419T170527
CREATED:20241016T160713Z
LAST-MODIFIED:20260121T084118Z
UID:10003505-1776596400-1776600000@www.forum-wissen.de
SUMMARY:Basisausstellung | Öffentlicher Rundgang durch die „Räume des Wissens“
DESCRIPTION:Eintauchen in die Welt der Wissenschaften!\n\nErleben Sie die Räume des Wissens – die Basisausstellung im Forum Wissen.\nDer Rundgang gibt eine Einführung in Konzept und Inhalte. Jedes Wochenende können Sie unsere Basisausstellung gemeinsam mit unserem Team an Kommunikator*innen erkunden.\nBitte melden Sie sich zur Führung am Infotresen an. Beachten Sie\, dass Anmeldungen nur am jeweiligen Tag der Führung und vor Ort entgegen genommen werden können. \nEintritt und Führung sind kostenfrei.\nDauer: ca. 1 Stunde. \n  \n\nKONTAKT\nTelefon: 0551 39-26600 | E-Mail: willkommen@forum-wissen.de
URL:https://www.forum-wissen.de/event/basisausstellung-rundgang/2026-04-19/
ATTACH;FMTTYPE=image/png:https://www.forum-wissen.de/wp-content/uploads/2024/02/Foto-Veranstaltungskalender-Basisausstellung-Forum-Wissen-Teenager.png
END:VEVENT
BEGIN:VEVENT
DTSTART;TZID=Europe/Berlin:20260419T120000
DTEND;TZID=Europe/Berlin:20260419T170000
DTSTAMP:20260419T170527
CREATED:20260303T122356Z
LAST-MODIFIED:20260410T135500Z
UID:10003678-1776600000-1776618000@www.forum-wissen.de
SUMMARY:Wie sieht dein digitaler Zwilling aus? Fowi-Mobil@Science goes City
DESCRIPTION:Fowi-Mobil@Science goes City!  \nWie sieht dein digitaler Zwilling aus? Spielerische Aktion zur Sonderausstellung PRIVATAR \nUnter dem Motto „Science goes City“ verwandelt sich die Göttinger Innenstadt am 19. April in eine riesige Erlebnismeile und wir sind dabei! Mit unserem Forum Wissen Mobil kommen wir in die Göttinger Innenstadt und stellen unsere neue Sonderausstellung PRIVATAR vor. Die Ausstellung taucht ein in die Welt der Telepräsenz-Roboter im Klassenzimmer. Passend dazu lädt das Fowi-Mobil zu kreativen Lego-Herausforderungen ein. Ob futuristische Roboter-Avatare oder digitale Lernwelten: hier können Familien und Entdecker*innen ihre eigenen Visionen von Technik und Gemeinschaft aus Lego-Steinen erschaffen. \nKommt vorbei\, nehmt die Bau-Herausforderung an und entdeckt spielerisch\, wie digitale Teilhabe funktioniert. \nWir werden auf dem Johanniskirchhof vor Ort sein und freuen uns auf euren Besuch!
URL:https://www.forum-wissen.de/event/science-goes-city/
CATEGORIES:Kinder,Sonderausstellung
ATTACH;FMTTYPE=image/png:https://www.forum-wissen.de/wp-content/uploads/2025/08/Forum-Wissen-Mobil.jpg-scaled.png
END:VEVENT
BEGIN:VEVENT
DTSTART;TZID=Europe/Berlin:20260419T140000
DTEND;TZID=Europe/Berlin:20260419T160000
DTSTAMP:20260419T170527
CREATED:20250311T204530Z
LAST-MODIFIED:20260407T085255Z
UID:10001649-1776607200-1776614400@www.forum-wissen.de
SUMMARY:PRAKTIKEN mit Dr. Ruth Reiche | Zeichenworkshop für Menschen ab 16 Jahre
DESCRIPTION:NEU! Praktiken im Forum Wissen: Workshops für Menschen ab 16 Jahre \nWissen steckt nicht nur in Büchern\, es steckt auch in unseren Praktiken: in den Werkzeugen\, die wir nutzen\, den Handgriffen\, mit denen wir sie benutzen\, und dem\, was wir damit herstellen. Vieles davon lässt sich am besten erlernen\, in dem man es selbst ausprobiert. Diese Chance bietet die Workshop-Reihe „Praktiken“: Praktiker*innen aus verschiedensten Bereichen geben ihr Wissen weiter und leiten zum Nachmachen und Ausprobieren unterschiedlicher Techniken an. Die Ausstellungen im Forum Wissen geben dabei Inspirationen und Impulse. \nIm Sammlungsschaufenster des Forum Wissen sind faszinierende Objekte aus verschiedenen wissenschaftlichen Sammlungen zu entdecken: Lehrmodelle\, Mineralien\, Präparate\, technische Apparaturen und kulturelle Artefakte. In dem Workshop nehmen wir die ausgestellten Gegenstände\, die losgelöst von ihrem ursprünglichen Kontext eine ganz eigene Ästhetik entfalten\, in den Blick und widmen uns der Kunst des präzisen Abbildens. Durch das genaue Zeichnen ausgewählter Exponate schulen Sie nicht nur Ihre Hand\, sondern auch Ihren Blick – und gewinnen eine neue Perspektive auf die Objekte. Ruth Reiche\, zugleich Künstlerin und Kunstwissenschaftlerin\, begleitet Sie hierbei individuell und unterstützt Sie auf Ihrem persönlichen Zeichenlevel. \nTreffpunkt: Der Treffpunkt ist am Infotresen im Erdgeschoss. Bitte verstauen Sie Ihr Gepäck vorab in den Schließfächern. Der Workshop beginnt pünktlich um 14 Uhr. \nWir bitten um Anmeldung über unser digitales Anmeldetool.\nBitte melden Sie sich verbindlich an. Die Teilnehmer*innenzahl ist auf 15 Leute begrenzt. Falls Sie verhindert sind\, geben Sie uns bitte rechtzeitig Bescheid. \nWeitere Termine mit Ruth Reiche Zeichenworkshop (Objekte zeichnen):
URL:https://www.forum-wissen.de/event/praktiken-mit-dr-ruth-reiche/
ATTACH;FMTTYPE=image/png:https://www.forum-wissen.de/wp-content/uploads/2025/03/FW_PRAKTIKEN_Kalender-_1008x672.png
END:VEVENT
END:VCALENDAR