BEGIN:VCALENDAR
VERSION:2.0
PRODID:-//Forum Wissen - ECPv6.15.12.2//NONSGML v1.0//EN
CALSCALE:GREGORIAN
METHOD:PUBLISH
X-ORIGINAL-URL:https://www.forum-wissen.de
X-WR-CALDESC:Veranstaltungen für Forum Wissen
REFRESH-INTERVAL;VALUE=DURATION:PT1H
X-Robots-Tag:noindex
X-PUBLISHED-TTL:PT1H
BEGIN:VTIMEZONE
TZID:Europe/Berlin
BEGIN:DAYLIGHT
TZOFFSETFROM:+0100
TZOFFSETTO:+0200
TZNAME:CEST
DTSTART:20250330T010000
END:DAYLIGHT
BEGIN:STANDARD
TZOFFSETFROM:+0200
TZOFFSETTO:+0100
TZNAME:CET
DTSTART:20251026T010000
END:STANDARD
BEGIN:DAYLIGHT
TZOFFSETFROM:+0100
TZOFFSETTO:+0200
TZNAME:CEST
DTSTART:20260329T010000
END:DAYLIGHT
BEGIN:STANDARD
TZOFFSETFROM:+0200
TZOFFSETTO:+0100
TZNAME:CET
DTSTART:20261025T010000
END:STANDARD
BEGIN:DAYLIGHT
TZOFFSETFROM:+0100
TZOFFSETTO:+0200
TZNAME:CEST
DTSTART:20270328T010000
END:DAYLIGHT
BEGIN:STANDARD
TZOFFSETFROM:+0200
TZOFFSETTO:+0100
TZNAME:CET
DTSTART:20271031T010000
END:STANDARD
END:VTIMEZONE
BEGIN:VEVENT
DTSTART;TZID=Europe/Berlin:20260524T120000
DTEND;TZID=Europe/Berlin:20260524T160000
DTSTAMP:20260422T212823
CREATED:20260421T153813Z
LAST-MODIFIED:20260422T105333Z
UID:10003781-1779624000-1779638400@www.forum-wissen.de
SUMMARY:Privatar | Kreatives Angebot: Roboter stempeln mit Lego und Acryl
DESCRIPTION:In dieser Roboter-Werkstatt könnt ihr eurer Fantasie freien Lauf lassen und euren Roboter mit Legosteinen und Acrylfarbe selber  stempeln! \n  \nSO STEMPELST DU DEINEN LEGO-ROBOTER: \nFarben wählen: Such dir deine Lieblingsfarben aus. \nFarbe vorbereiten: Gib von jeder Farbe einen großen Klecks auf einen Pappteller. \nSteine aussuchen: Wähle die Lego-Steine aus\, die du als Stempel benutzen möchtest. \nStempeln: Tunke die Steine in die Farbe und drucke deinen Roboter auf das Papier. \nKreativ sein: Nutze das Beispielbild als Hilfe oder denk dir einen ganz eigenen Roboter aus! \n  \nMit Groß und Klein könnt ihr dabei darüber diskutieren: Welche Spezialfähigkeiten haben eure Roboter und welche Aufgaben können sie damit ausführen? Was ist die geheime Mission eurer Roboter? Und wie könnten eure Roboter heißen? \n  \nDer Eintritt ist frei. \nOhne Anmeldung! Einfach vorbeikommen! \n  \nWeitere Termine: \n24.05.26\, 12 – 16 Uhr \n14.06.26\, 12 – 16 Uhr \n15.08.26\, 12 – 16 Uhr
URL:https://www.forum-wissen.de/event/privatar-roboterwerkstatt/2026-05-24/
CATEGORIES:Kinder,Sonderausstellung
ATTACH;FMTTYPE=image/jpeg:https://www.forum-wissen.de/wp-content/uploads/2026/04/FW_PRIVATAR_Kalender_1008x672_Kreativ.jpg
END:VEVENT
BEGIN:VEVENT
DTSTART;TZID=Europe/Berlin:20260614T120000
DTEND;TZID=Europe/Berlin:20260614T160000
DTSTAMP:20260422T212823
CREATED:20260421T153813Z
LAST-MODIFIED:20260422T105333Z
UID:10003782-1781438400-1781452800@www.forum-wissen.de
SUMMARY:Privatar | Kreatives Angebot: Roboter stempeln mit Lego und Acryl
DESCRIPTION:In dieser Roboter-Werkstatt könnt ihr eurer Fantasie freien Lauf lassen und euren Roboter mit Legosteinen und Acrylfarbe selber  stempeln! \n  \nSO STEMPELST DU DEINEN LEGO-ROBOTER: \nFarben wählen: Such dir deine Lieblingsfarben aus. \nFarbe vorbereiten: Gib von jeder Farbe einen großen Klecks auf einen Pappteller. \nSteine aussuchen: Wähle die Lego-Steine aus\, die du als Stempel benutzen möchtest. \nStempeln: Tunke die Steine in die Farbe und drucke deinen Roboter auf das Papier. \nKreativ sein: Nutze das Beispielbild als Hilfe oder denk dir einen ganz eigenen Roboter aus! \n  \nMit Groß und Klein könnt ihr dabei darüber diskutieren: Welche Spezialfähigkeiten haben eure Roboter und welche Aufgaben können sie damit ausführen? Was ist die geheime Mission eurer Roboter? Und wie könnten eure Roboter heißen? \n  \nDer Eintritt ist frei. \nOhne Anmeldung! Einfach vorbeikommen! \n  \nWeitere Termine: \n24.05.26\, 12 – 16 Uhr \n14.06.26\, 12 – 16 Uhr \n15.08.26\, 12 – 16 Uhr
URL:https://www.forum-wissen.de/event/privatar-roboterwerkstatt/2026-06-14/
CATEGORIES:Kinder,Sonderausstellung
ATTACH;FMTTYPE=image/jpeg:https://www.forum-wissen.de/wp-content/uploads/2026/04/FW_PRIVATAR_Kalender_1008x672_Kreativ.jpg
END:VEVENT
BEGIN:VEVENT
DTSTART;TZID=Europe/Berlin:20260815T120000
DTEND;TZID=Europe/Berlin:20260815T160000
DTSTAMP:20260422T212823
CREATED:20260421T153813Z
LAST-MODIFIED:20260422T105333Z
UID:10003783-1786795200-1786809600@www.forum-wissen.de
SUMMARY:Privatar | Kreatives Angebot: Roboter stempeln mit Lego und Acryl
DESCRIPTION:In dieser Roboter-Werkstatt könnt ihr eurer Fantasie freien Lauf lassen und euren Roboter mit Legosteinen und Acrylfarbe selber  stempeln! \n  \nSO STEMPELST DU DEINEN LEGO-ROBOTER: \nFarben wählen: Such dir deine Lieblingsfarben aus. \nFarbe vorbereiten: Gib von jeder Farbe einen großen Klecks auf einen Pappteller. \nSteine aussuchen: Wähle die Lego-Steine aus\, die du als Stempel benutzen möchtest. \nStempeln: Tunke die Steine in die Farbe und drucke deinen Roboter auf das Papier. \nKreativ sein: Nutze das Beispielbild als Hilfe oder denk dir einen ganz eigenen Roboter aus! \n  \nMit Groß und Klein könnt ihr dabei darüber diskutieren: Welche Spezialfähigkeiten haben eure Roboter und welche Aufgaben können sie damit ausführen? Was ist die geheime Mission eurer Roboter? Und wie könnten eure Roboter heißen? \n  \nDer Eintritt ist frei. \nOhne Anmeldung! Einfach vorbeikommen! \n  \nWeitere Termine: \n24.05.26\, 12 – 16 Uhr \n14.06.26\, 12 – 16 Uhr \n15.08.26\, 12 – 16 Uhr
URL:https://www.forum-wissen.de/event/privatar-roboterwerkstatt/2026-08-15/
CATEGORIES:Kinder,Sonderausstellung
ATTACH;FMTTYPE=image/jpeg:https://www.forum-wissen.de/wp-content/uploads/2026/04/FW_PRIVATAR_Kalender_1008x672_Kreativ.jpg
END:VEVENT
END:VCALENDAR