BEGIN:VCALENDAR
VERSION:2.0
PRODID:-//Forum Wissen - ECPv6.15.12.2//NONSGML v1.0//EN
CALSCALE:GREGORIAN
METHOD:PUBLISH
X-ORIGINAL-URL:https://www.forum-wissen.de
X-WR-CALDESC:Veranstaltungen für Forum Wissen
REFRESH-INTERVAL;VALUE=DURATION:PT1H
X-Robots-Tag:noindex
X-PUBLISHED-TTL:PT1H
BEGIN:VTIMEZONE
TZID:Europe/Berlin
BEGIN:DAYLIGHT
TZOFFSETFROM:+0100
TZOFFSETTO:+0200
TZNAME:CEST
DTSTART:20250330T010000
END:DAYLIGHT
BEGIN:STANDARD
TZOFFSETFROM:+0200
TZOFFSETTO:+0100
TZNAME:CET
DTSTART:20251026T010000
END:STANDARD
BEGIN:DAYLIGHT
TZOFFSETFROM:+0100
TZOFFSETTO:+0200
TZNAME:CEST
DTSTART:20260329T010000
END:DAYLIGHT
BEGIN:STANDARD
TZOFFSETFROM:+0200
TZOFFSETTO:+0100
TZNAME:CET
DTSTART:20261025T010000
END:STANDARD
BEGIN:DAYLIGHT
TZOFFSETFROM:+0100
TZOFFSETTO:+0200
TZNAME:CEST
DTSTART:20270328T010000
END:DAYLIGHT
BEGIN:STANDARD
TZOFFSETFROM:+0200
TZOFFSETTO:+0100
TZNAME:CET
DTSTART:20271031T010000
END:STANDARD
END:VTIMEZONE
BEGIN:VEVENT
DTSTART;TZID=Europe/Berlin:20260426T150000
DTEND;TZID=Europe/Berlin:20260426T160000
DTSTAMP:20260424T215524
CREATED:20251128T182834Z
LAST-MODIFIED:20251128T182912Z
UID:10003364-1777215600-1777219200@www.forum-wissen.de
SUMMARY:Basisausstellung | „Menschen\, die's wissen wollten!“ – Szenischer Rundgang mit Götz Lautenbach
DESCRIPTION:„Menschen\, die’s wissen wollten!“\nEin szenischer Rundgang durch die Räume des Wissens mit Götz Lautenbach \nWer waren die Menschen hinter den großen Entdeckungen und Erfindungen? In diesem Rundgang tauchen wir in das Leben berühmter Wissenschaftlerinnen und Wissenschaftler ein und beleuchten ihre persönlichen Geschichten: ihre Leidenschaft\, ihre Höhepunkte und Rückschläge sowie ihr tägliches Leben. Diese Perspektive zeigt\, dass Wissenschaft mehr ist als eine Abfolge von Daten und Fakten: Sie ist das Ergebnis von menschlicher Neugier\, Beharrlichkeit und Begeisterung. \nWeitere Termine folgen. Da die Plätze begrenzt sind bitten wir um Anmeldung über unser digitales Anmeldetool.
URL:https://www.forum-wissen.de/event/basisausstellung-menschen-dies-wissen-wollten-szenischer-rundgang-mit-goetz-lautenbach-4/
ATTACH;FMTTYPE=image/jpeg:https://www.forum-wissen.de/wp-content/uploads/2025/10/FW_TheatralischerRundgang_Kalender-_1008x672_FIN.jpg
END:VEVENT
BEGIN:VEVENT
DTSTART;TZID=Europe/Berlin:20260517T150000
DTEND;TZID=Europe/Berlin:20260517T160000
DTSTAMP:20260424T215524
CREATED:20251128T183258Z
LAST-MODIFIED:20251128T183633Z
UID:10003366-1779030000-1779033600@www.forum-wissen.de
SUMMARY:Basisausstellung | „Menschen\, die's wissen wollten!“ – Szenischer Rundgang mit Götz Lautenbach
DESCRIPTION:„Menschen\, die’s wissen wollten!“\nEin szenischer Rundgang durch die Räume des Wissens mit Götz Lautenbach \nWer waren die Menschen hinter den großen Entdeckungen und Erfindungen? In diesem Rundgang tauchen wir in das Leben berühmter Wissenschaftlerinnen und Wissenschaftler ein und beleuchten ihre persönlichen Geschichten: ihre Leidenschaft\, ihre Höhepunkte und Rückschläge sowie ihr tägliches Leben. Diese Perspektive zeigt\, dass Wissenschaft mehr ist als eine Abfolge von Daten und Fakten: Sie ist das Ergebnis von menschlicher Neugier\, Beharrlichkeit und Begeisterung. \nWeitere Termine folgen. Da die Plätze begrenzt sind bitten wir um Anmeldung über unser digitales Anmeldetool.
URL:https://www.forum-wissen.de/event/basisausstellung-menschen-dies-wissen-wollten-szenischer-rundgang-mit-goetz-lautenbach-5/
ATTACH;FMTTYPE=image/jpeg:https://www.forum-wissen.de/wp-content/uploads/2025/10/FW_TheatralischerRundgang_Kalender-_1008x672_FIN.jpg
END:VEVENT
BEGIN:VEVENT
DTSTART;TZID=Europe/Berlin:20260621T150000
DTEND;TZID=Europe/Berlin:20260621T160000
DTSTAMP:20260424T215524
CREATED:20251128T183736Z
LAST-MODIFIED:20251128T183736Z
UID:10003367-1782054000-1782057600@www.forum-wissen.de
SUMMARY:Basisausstellung | „Menschen\, die's wissen wollten!“ – Szenischer Rundgang mit Götz Lautenbach
DESCRIPTION:„Menschen\, die’s wissen wollten!“\nEin szenischer Rundgang durch die Räume des Wissens mit Götz Lautenbach \nWer waren die Menschen hinter den großen Entdeckungen und Erfindungen? In diesem Rundgang tauchen wir in das Leben berühmter Wissenschaftlerinnen und Wissenschaftler ein und beleuchten ihre persönlichen Geschichten: ihre Leidenschaft\, ihre Höhepunkte und Rückschläge sowie ihr tägliches Leben. Diese Perspektive zeigt\, dass Wissenschaft mehr ist als eine Abfolge von Daten und Fakten: Sie ist das Ergebnis von menschlicher Neugier\, Beharrlichkeit und Begeisterung. \nWeitere Termine folgen. Da die Plätze begrenzt sind bitten wir um Anmeldung über unser digitales Anmeldetool.
URL:https://www.forum-wissen.de/event/basisausstellung-menschen-dies-wissen-wollten-szenischer-rundgang-mit-goetz-lautenbach-6/
ATTACH;FMTTYPE=image/jpeg:https://www.forum-wissen.de/wp-content/uploads/2025/10/FW_TheatralischerRundgang_Kalender-_1008x672_FIN.jpg
END:VEVENT
BEGIN:VEVENT
DTSTART;TZID=Europe/Berlin:20260913T150000
DTEND;TZID=Europe/Berlin:20260913T160000
DTSTAMP:20260424T215524
CREATED:20251128T183822Z
LAST-MODIFIED:20251128T183835Z
UID:10003368-1789311600-1789315200@www.forum-wissen.de
SUMMARY:Basisausstellung | „Menschen\, die's wissen wollten!“ – Szenischer Rundgang mit Götz Lautenbach
DESCRIPTION:„Menschen\, die’s wissen wollten!“\nEin szenischer Rundgang durch die Räume des Wissens mit Götz Lautenbach \nWer waren die Menschen hinter den großen Entdeckungen und Erfindungen? In diesem Rundgang tauchen wir in das Leben berühmter Wissenschaftlerinnen und Wissenschaftler ein und beleuchten ihre persönlichen Geschichten: ihre Leidenschaft\, ihre Höhepunkte und Rückschläge sowie ihr tägliches Leben. Diese Perspektive zeigt\, dass Wissenschaft mehr ist als eine Abfolge von Daten und Fakten: Sie ist das Ergebnis von menschlicher Neugier\, Beharrlichkeit und Begeisterung. \nWeitere Termine folgen. Da die Plätze begrenzt sind bitten wir um Anmeldung über unser digitales Anmeldetool.
URL:https://www.forum-wissen.de/event/basisausstellung-menschen-dies-wissen-wollten-szenischer-rundgang-mit-goetz-lautenbach-7/
ATTACH;FMTTYPE=image/jpeg:https://www.forum-wissen.de/wp-content/uploads/2025/10/FW_TheatralischerRundgang_Kalender-_1008x672_FIN.jpg
END:VEVENT
BEGIN:VEVENT
DTSTART;TZID=Europe/Berlin:20261122T150000
DTEND;TZID=Europe/Berlin:20261122T160000
DTSTAMP:20260424T215524
CREATED:20251128T183949Z
LAST-MODIFIED:20251128T183949Z
UID:10003369-1795359600-1795363200@www.forum-wissen.de
SUMMARY:Basisausstellung | „Menschen\, die's wissen wollten!“ – Szenischer Rundgang mit Götz Lautenbach
DESCRIPTION:„Menschen\, die’s wissen wollten!“\nEin szenischer Rundgang durch die Räume des Wissens mit Götz Lautenbach \nWer waren die Menschen hinter den großen Entdeckungen und Erfindungen? In diesem Rundgang tauchen wir in das Leben berühmter Wissenschaftlerinnen und Wissenschaftler ein und beleuchten ihre persönlichen Geschichten: ihre Leidenschaft\, ihre Höhepunkte und Rückschläge sowie ihr tägliches Leben. Diese Perspektive zeigt\, dass Wissenschaft mehr ist als eine Abfolge von Daten und Fakten: Sie ist das Ergebnis von menschlicher Neugier\, Beharrlichkeit und Begeisterung. \nWeitere Termine folgen. Da die Plätze begrenzt sind bitten wir um Anmeldung über unser digitales Anmeldetool.
URL:https://www.forum-wissen.de/event/basisausstellung-menschen-dies-wissen-wollten-szenischer-rundgang-mit-goetz-lautenbach-8/
ATTACH;FMTTYPE=image/jpeg:https://www.forum-wissen.de/wp-content/uploads/2025/10/FW_TheatralischerRundgang_Kalender-_1008x672_FIN.jpg
END:VEVENT
BEGIN:VEVENT
DTSTART;TZID=Europe/Berlin:20261213T150000
DTEND;TZID=Europe/Berlin:20261213T160000
DTSTAMP:20260424T215524
CREATED:20251128T184100Z
LAST-MODIFIED:20251128T184100Z
UID:10003370-1797174000-1797177600@www.forum-wissen.de
SUMMARY:Basisausstellung | „Menschen\, die's wissen wollten!“ – Szenischer Rundgang mit Götz Lautenbach
DESCRIPTION:„Menschen\, die’s wissen wollten!“\nEin szenischer Rundgang durch die Räume des Wissens mit Götz Lautenbach \nWer waren die Menschen hinter den großen Entdeckungen und Erfindungen? In diesem Rundgang tauchen wir in das Leben berühmter Wissenschaftlerinnen und Wissenschaftler ein und beleuchten ihre persönlichen Geschichten: ihre Leidenschaft\, ihre Höhepunkte und Rückschläge sowie ihr tägliches Leben. Diese Perspektive zeigt\, dass Wissenschaft mehr ist als eine Abfolge von Daten und Fakten: Sie ist das Ergebnis von menschlicher Neugier\, Beharrlichkeit und Begeisterung. \nWeitere Termine folgen. Da die Plätze begrenzt sind bitten wir um Anmeldung über unser digitales Anmeldetool.
URL:https://www.forum-wissen.de/event/basisausstellung-menschen-dies-wissen-wollten-szenischer-rundgang-mit-goetz-lautenbach-9/
ATTACH;FMTTYPE=image/jpeg:https://www.forum-wissen.de/wp-content/uploads/2025/10/FW_TheatralischerRundgang_Kalender-_1008x672_FIN.jpg
END:VEVENT
END:VCALENDAR